BEGIN:VCALENDAR
VERSION:2.0
PRODID:-//ChamberMaster//Event Calendar 2.0//EN
METHOD:PUBLISH
X-PUBLISHED-TTL:P3D
REFRESH-INTERVAL:P3D
CALSCALE:GREGORIAN
BEGIN:VEVENT
DTSTART:20140211T180000Z
DTEND:20140211T190000Z
X-MICROSOFT-CDO-ALLDAYEVENT:FALSE
SUMMARY:Chamber Membership Luncheon
DESCRIPTION:Find out how your business can get government contracts. From nuts and bolts to furniture and gift baskets\, the government needs products and services from you. . . and they are required to set aside contracts for small business. Procurement Counselor Julie Wilhelm explains how easy it is!
X-ALT-DESC;FMTTYPE=text/html:Find out how your business can get government contracts. From nuts and bolts to furniture and gift baskets\, the government needs products and services from you. . . and they are required to set aside contracts for small business. Procurement Counselor Julie Wilhelm explains how easy it is!
LOCATION:Civic Center Basement
UID:e.865.3476
SEQUENCE:3
DTSTAMP:20260421T153302Z
URL:https://business.cultivatesewardcounty.com/events/details/chamber-membership-luncheon-02-11-2014-3476
END:VEVENT

END:VCALENDAR
