BEGIN:VCALENDAR
VERSION:2.0
PRODID:-//ChamberMaster//Event Calendar 2.0//EN
METHOD:PUBLISH
X-PUBLISHED-TTL:P3D
REFRESH-INTERVAL:P3D
CALSCALE:GREGORIAN
BEGIN:VEVENT
DTSTART:20140114T180000Z
DTEND:20140114T190000Z
X-MICROSOFT-CDO-ALLDAYEVENT:FALSE
SUMMARY:Chamber Membership Luncheon
DESCRIPTION:Join us for our monthly membership luncheon. New Board members will be introduced and we will discuss priorities of the Chamber for 2014 and beyond.
X-ALT-DESC;FMTTYPE=text/html:Join us for our monthly membership luncheon. New Board members will be introduced and we will discuss priorities of the Chamber for 2014 and beyond.
LOCATION:Civic Center Basement
UID:e.865.3459
SEQUENCE:3
DTSTAMP:20260421T153300Z
URL:https://business.cultivatesewardcounty.com/events/details/chamber-membership-luncheon-01-14-2014-3459
END:VEVENT

END:VCALENDAR
