BEGIN:VCALENDAR
VERSION:2.0
PRODID:-//ChamberMaster//Event Calendar 2.0//EN
METHOD:PUBLISH
X-PUBLISHED-TTL:P3D
REFRESH-INTERVAL:P3D
CALSCALE:GREGORIAN
BEGIN:VEVENT
DTSTART:20140423T163000Z
DTEND:20140423T180000Z
X-MICROSOFT-CDO-ALLDAYEVENT:FALSE
SUMMARY:Chamber Lunch & Learn on Government Contracts
DESCRIPTION:Lunch and Learn with government procurement experts on how to obtain government contracts for your business. Sponsored by the Chamber and Seward County Economic Development. A 30 minute presentation on business plan writing and learning more about the government contract system will be followed by one-on-one talks.
X-ALT-DESC;FMTTYPE=text/html:Lunch and Learn with government procurement experts on how to obtain government contracts for your business. Sponsored by the Chamber and Seward County Economic Development. A 30 minute presentation on business plan writing and learning more about the government contract system will be followed by one-on-one talks.
LOCATION:Olde Glory Community Hall\, 348 Jackson
UID:e.865.3607
SEQUENCE:3
DTSTAMP:20260421T113004Z
URL:https://business.cultivatesewardcounty.com/events/details/chamber-lunch-learn-on-government-contracts-04-23-2014-3607
END:VEVENT

END:VCALENDAR
