BEGIN:VCALENDAR
VERSION:2.0
PRODID:-//ChamberMaster//Event Calendar 2.0//EN
METHOD:PUBLISH
X-PUBLISHED-TTL:P3D
REFRESH-INTERVAL:P3D
CALSCALE:GREGORIAN
BEGIN:VEVENT
DTSTART;VALUE=DATE:20130503
DTEND;VALUE=DATE:20130504
TRANSP:TRANSPARENT
X-MICROSOFT-CDO-ALLDAYEVENT:TRUE
SUMMARY:Chamber Cup Golf Tourney
DESCRIPTION:Chamber of Commerce 15th Annual Chamber Cup Golf Tourney
X-ALT-DESC;FMTTYPE=text/html:Chamber of Commerce 15th Annual Chamber Cup Golf Tourney
LOCATION:Seward Country Club
UID:e.865.2149
SEQUENCE:3
DTSTAMP:20260422T014537Z
URL:https://business.cultivatesewardcounty.com/events/details/chamber-cup-golf-tourney-05-03-2013-2149
END:VEVENT

END:VCALENDAR
