BEGIN:VCALENDAR
VERSION:2.0
PRODID:-//ChamberMaster//Event Calendar 2.0//EN
METHOD:PUBLISH
X-PUBLISHED-TTL:P3D
REFRESH-INTERVAL:P3D
CALSCALE:GREGORIAN
BEGIN:VEVENT
DTSTART:20120504T180000Z
DTEND:20120504T230000Z
X-MICROSOFT-CDO-ALLDAYEVENT:FALSE
SUMMARY:CHAMBER CUP GOLF TOURNAMENT
DESCRIPTION:The Seward Area Chamber of Commerce will host the 14th Annual "Chamber Cup" Golf Tournament Fundraiser. \n\n	\n\n	18 Holes\, 4-person teams\, Flag Prizes\, Brats & Beer throughout play compliments of Pac N Save\, The Cattle National Bank and Seward Vision Clinic
X-ALT-DESC;FMTTYPE=text/html:<p>\n	The Seward Area Chamber of Commerce will host the 14th Annual &quot\;Chamber Cup&quot\; Golf Tournament Fundraiser.&nbsp\;<br />\n	<br />\n	18 Holes\, 4-person teams\, Flag Prizes\, Brats &amp\; Beer throughout play compliments of Pac N Save\, The Cattle National Bank and Seward Vision Clinic</p>\n
LOCATION:Seward Country Club\, Seward\, NE
UID:e.865.1385
SEQUENCE:3
DTSTAMP:20260422T190132Z
URL:https://business.cultivatesewardcounty.com/events/details/chamber-cup-golf-tournament-05-04-2012-1385
END:VEVENT

END:VCALENDAR
