BEGIN:VCALENDAR
VERSION:2.0
PRODID:-//ChamberMaster//Event Calendar 2.0//EN
METHOD:PUBLISH
X-PUBLISHED-TTL:P3D
REFRESH-INTERVAL:P3D
CALSCALE:GREGORIAN
BEGIN:VEVENT
DTSTART:20120120T200000Z
DTEND:20120120T220000Z
X-MICROSOFT-CDO-ALLDAYEVENT:FALSE
SUMMARY:Chamber Board of Director Retreat
DESCRIPTION:The Seward Area Chamber of Commerce Board of Directors will participate in their Annual Retreat to discuss the goals and vision of the Chamber for 2012.
X-ALT-DESC;FMTTYPE=text/html:The Seward Area Chamber of Commerce Board of Directors will participate in their Annual Retreat to discuss the goals and vision of the Chamber for 2012.
LOCATION:Seward Memorial Library meeting room.
UID:e.865.1202
SEQUENCE:3
DTSTAMP:20260424T111811Z
URL:https://business.cultivatesewardcounty.com/events/details/chamber-board-of-director-retreat-01-20-2012-1202
END:VEVENT

END:VCALENDAR
