BEGIN:VCALENDAR
VERSION:2.0
PRODID:-//ChamberMaster//Event Calendar 2.0//EN
METHOD:PUBLISH
X-PUBLISHED-TTL:P3D
REFRESH-INTERVAL:P3D
CALSCALE:GREGORIAN
BEGIN:VEVENT
DTSTART:20131012T140000Z
DTEND:20131012T210000Z
X-MICROSOFT-CDO-ALLDAYEVENT:FALSE
SUMMARY:CFA Cat Show
DESCRIPTION:Sandhills Cat Club and Midlands Cat Fanciers presents their CFA Cat Show for pedigreed cats and household pets.\n\n\n\nhttp://cfashows.net/scc/
X-ALT-DESC;FMTTYPE=text/html:Sandhills Cat Club and Midlands Cat Fanciers presents their CFA Cat Show for pedigreed cats and household pets.<br />\n<br />\n<a href="http://cfashows.net/scc/">http://cfashows.net/scc/</a>
LOCATION:Seward County Fairgrounds Ag Pavilion 500 N. 14th St. Seward\, NE
UID:e.865.2922
SEQUENCE:3
DTSTAMP:20260421T191518Z
URL:https://business.cultivatesewardcounty.com/events/details/cfa-cat-show-10-12-2013-2922
END:VEVENT

END:VCALENDAR
