BEGIN:VCALENDAR
VERSION:2.0
PRODID:-//ChamberMaster//Event Calendar 2.0//EN
METHOD:PUBLISH
X-PUBLISHED-TTL:P3D
REFRESH-INTERVAL:P3D
CALSCALE:GREGORIAN
BEGIN:VEVENT
DTSTART;VALUE=DATE:20111126
DTEND;VALUE=DATE:20111127
TRANSP:TRANSPARENT
X-MICROSOFT-CDO-ALLDAYEVENT:TRUE
SUMMARY:Celebrate Christmas in Seward!!
DESCRIPTION:Come Celebrate the Spirit of Christmas in Seward!!\n\n\n\nSanta will arrive on the firetruck at 10am and he will have a couple of his LIVE reindeer with him for you to see\, pet and take pictures!!\n\n\n\nThere will be games on the square to include a Fruitcake Toss and Reindeer Games\n\n\n\nTake a tour of the First Indoor Winter Wonderland!!\n\n\n\nEnjoy a Pulled Pork Lunch at the Seward Civic Center from 11:30am - 1:00pm\n\n\n\nEnjoy the First Annual Lighted Christmas Parade beginning at 5:30pm\n\n\n\nWhile in town - shop our wonderful shops downtown and around town!@
X-ALT-DESC;FMTTYPE=text/html:Come Celebrate the Spirit of Christmas in Seward!!<br />\n<br />\nSanta will arrive on the firetruck at 10am and he will have a couple of his LIVE reindeer with him for you to see\, pet and take pictures!!<br />\n<br />\nThere will be games on the square to include a Fruitcake Toss and Reindeer Games<br />\n<br />\nTake a tour of the First Indoor Winter Wonderland!!<br />\n<br />\nEnjoy a Pulled Pork Lunch at the Seward Civic Center from 11:30am - 1:00pm<br />\n<br />\nEnjoy the First Annual Lighted Christmas Parade beginning at 5:30pm<br />\n<br />\nWhile in town - shop our wonderful shops downtown and around town!@
LOCATION:Most events will take place downtown on the historic square - Seward\, NE The Pulled Pork lunch will be at the Seward Civic Center\, 616 Bradford St.\, Seward\, NE
UID:e.865.1171
SEQUENCE:3
DTSTAMP:20260424T141648Z
URL:https://business.cultivatesewardcounty.com/events/details/celebrate-christmas-in-seward-11-26-2011-1171
END:VEVENT

END:VCALENDAR
