BEGIN:VCALENDAR
VERSION:2.0
PRODID:-//ChamberMaster//Event Calendar 2.0//EN
METHOD:PUBLISH
X-PUBLISHED-TTL:P3D
REFRESH-INTERVAL:P3D
CALSCALE:GREGORIAN
BEGIN:VEVENT
DTSTART:20131219T140000Z
DTEND:20131219T220000Z
X-MICROSOFT-CDO-ALLDAYEVENT:FALSE
SUMMARY:Cattle National Bank & Trust Co. Open House
DESCRIPTION:Cattle National Bank & Trust Co. Open House\n\n\n\nhttp://www.cattlebank.com
X-ALT-DESC;FMTTYPE=text/html:Cattle National Bank &amp\; Trust Co. Open House<br />\n<br />\n<a href="http://www.cattlebank.com">http://www.cattlebank.com</a>
LOCATION:Cattle National Bank & Trust Co. 104 South 5th St. - Main Bank 405 North 5th St. - Branch Bank Seward\, NE
UID:e.865.3389
SEQUENCE:3
DTSTAMP:20260421T163227Z
URL:https://business.cultivatesewardcounty.com/events/details/cattle-national-bank-trust-co-open-house-12-19-2013-3389
END:VEVENT

END:VCALENDAR
