BEGIN:VCALENDAR
VERSION:2.0
PRODID:-//ChamberMaster//Event Calendar 2.0//EN
METHOD:PUBLISH
X-PUBLISHED-TTL:P3D
REFRESH-INTERVAL:P3D
CALSCALE:GREGORIAN
BEGIN:VEVENT
DTSTART:20121218T140000Z
DTEND:20121218T210000Z
X-MICROSOFT-CDO-ALLDAYEVENT:FALSE
SUMMARY:Cattle National Bank Blood Drive
DESCRIPTION:Cattle National Bank is teaming up with the communities of Goehner and Tamora for this upcoming blood drive. As a thank you for giving before the holiday\, all first time donors will receive an NCBB water bottle containing a coupon for a "Husker Nation" t-shirt to redeem when registering to donate a second time. For an appt.\, contact Nancy Dolezal at 402.643.3636. or visit www.ncbb.org.
X-ALT-DESC;FMTTYPE=text/html:Cattle National Bank is teaming up with the communities of Goehner and Tamora for this upcoming blood drive. As a thank you for giving before the holiday\, all first time donors will receive an NCBB water bottle containing a coupon for a &ldquo\;Husker Nation&rdquo\; t-shirt to redeem when registering to donate a second time. For an appt.\, contact Nancy Dolezal at 402.643.3636. or visit www.ncbb.org.<br />\n&nbsp\;
LOCATION:104 S. 5th Street\, Seward\, NE 68434
UID:e.865.1741
SEQUENCE:3
DTSTAMP:20260422T101239Z
URL:https://business.cultivatesewardcounty.com/events/details/cattle-national-bank-blood-drive-12-18-2012-1741
END:VEVENT

END:VCALENDAR
