BEGIN:VCALENDAR
VERSION:2.0
PRODID:-//ChamberMaster//Event Calendar 2.0//EN
METHOD:PUBLISH
X-PUBLISHED-TTL:P3D
REFRESH-INTERVAL:P3D
CALSCALE:GREGORIAN
BEGIN:VEVENT
DTSTART;VALUE=DATE:20131109
DTEND;VALUE=DATE:20131110
TRANSP:TRANSPARENT
X-MICROSOFT-CDO-ALLDAYEVENT:TRUE
SUMMARY:Cattle Bank Basketball Tournament
DESCRIPTION:Cattle Bank Basketball Tournament  -  more information to follow\n\n\n\nhttp://www.cattlebank.com/
X-ALT-DESC;FMTTYPE=text/html:Cattle Bank Basketball Tournament&nbsp\; -&nbsp\; more information to follow<br />\n<br />\n<a href="http://www.cattlebank.com/">http://www.cattlebank.com/</a>
LOCATION:Concordia University 800 North Columbia Seward\, NE
UID:e.865.3388
SEQUENCE:3
DTSTAMP:20260421T180314Z
URL:https://business.cultivatesewardcounty.com/events/details/cattle-bank-basketball-tournament-11-09-2013-3388
END:VEVENT

END:VCALENDAR
