BEGIN:VCALENDAR
VERSION:2.0
PRODID:-//ChamberMaster//Event Calendar 2.0//EN
METHOD:PUBLISH
X-PUBLISHED-TTL:P3D
REFRESH-INTERVAL:P3D
CALSCALE:GREGORIAN
BEGIN:VEVENT
DTSTART:20140406T190000Z
DTEND:20140406T203000Z
X-MICROSOFT-CDO-ALLDAYEVENT:FALSE
SUMMARY:CASA Superhero 5 K Run/Walk and 1 mile Fun Run
DESCRIPTION:CASA Superhero 5K Run/Walk and 1 mile Fun Run beginning at 2:00 pm.\n\n\n\nApril is Child Abuse Awareness/Prevention Month  -  come out and support a good cause and have fun doing it.\n\n\n\nhttp://www.southeastnebraskacasa.org
X-ALT-DESC;FMTTYPE=text/html:CASA Superhero 5K Run/Walk and 1 mile Fun Run beginning at 2:00 pm.<br />\n<br />\nApril is Child Abuse Awareness/Prevention Month&nbsp\; -&nbsp\; come out and support a good cause and have fun doing it.<br />\n<br />\n<a href="http://www.southeastnebraskacasa.org">http://www.southeastnebraskacasa.org</a>
LOCATION:Run will begin at the Seward County Fairgrounds located at 500 North 14th St.\, Seward\, NE
UID:e.865.3510
SEQUENCE:3
DTSTAMP:20260421T113703Z
URL:https://business.cultivatesewardcounty.com/events/details/casa-superhero-5-k-run-walk-and-1-mile-fun-run-04-06-2014-3510
END:VEVENT

END:VCALENDAR
