BEGIN:VCALENDAR
VERSION:2.0
PRODID:-//ChamberMaster//Event Calendar 2.0//EN
METHOD:PUBLISH
X-PUBLISHED-TTL:P3D
REFRESH-INTERVAL:P3D
CALSCALE:GREGORIAN
BEGIN:VEVENT
DTSTART:20140201T003000Z
DTEND:20140201T055500Z
X-MICROSOFT-CDO-ALLDAYEVENT:FALSE
SUMMARY:CASA 6th Annaul Benefit Gala
DESCRIPTION:CASA 6th Annual Benefit Gala - Doors open at 6:30 pm.  Ticket price includes dinner\, silent auction\, cash bar and entertainment by the 176 Keys Dueling Pianos.\n\n\n\nhttp://www.southeastnebraskacasa.org
X-ALT-DESC;FMTTYPE=text/html:CASA 6th Annual Benefit Gala - Doors open at 6:30 pm.&nbsp\; Ticket price includes dinner\, silent auction\, cash bar and entertainment by the 176 Keys Dueling Pianos.<br />\n<br />\n<a href="http://www.southeastnebraskacasa.org">http://www.southeastnebraskacasa.org</a>
LOCATION:Seward County Fairground - Harvest Hall Building 500 North 14th Street Seward\, NE
UID:e.865.3454
SEQUENCE:3
DTSTAMP:20260421T153300Z
URL:https://business.cultivatesewardcounty.com/events/details/casa-6th-annaul-benefit-gala-01-31-2014-3454
END:VEVENT

END:VCALENDAR
