BEGIN:VCALENDAR
VERSION:2.0
PRODID:-//ChamberMaster//Event Calendar 2.0//EN
METHOD:PUBLISH
X-PUBLISHED-TTL:P3D
REFRESH-INTERVAL:P3D
CALSCALE:GREGORIAN
BEGIN:VEVENT
DTSTART:20110901T170000Z
DTEND:20110901T180000Z
X-MICROSOFT-CDO-ALLDAYEVENT:FALSE
SUMMARY:Business Relations Committee Meeting
DESCRIPTION:The Seward Area Chamber of Commerce will host a Business Relations Committee Meeting.  All Seward area business owners/manager are invited to attend.
X-ALT-DESC;FMTTYPE=text/html:<p>\n	The Seward Area Chamber of Commerce will host a Business Relations Committee Meeting.&nbsp\; All Seward area business owners/manager are invited to attend.</p>\n
LOCATION:Seward Civic Center\, 616 Bradford St.\, Seward\, NE 68434
UID:e.865.1139
SEQUENCE:3
DTSTAMP:20260424T172139Z
URL:https://business.cultivatesewardcounty.com/events/details/business-relations-committee-meeting-09-01-2011-1139
END:VEVENT

END:VCALENDAR
