BEGIN:VCALENDAR
VERSION:2.0
PRODID:-//ChamberMaster//Event Calendar 2.0//EN
METHOD:PUBLISH
X-PUBLISHED-TTL:P3D
REFRESH-INTERVAL:P3D
CALSCALE:GREGORIAN
BEGIN:VEVENT
DTSTART:20111122T230000Z
DTEND:20111123T010000Z
X-MICROSOFT-CDO-ALLDAYEVENT:FALSE
SUMMARY:Business After Hours
DESCRIPTION:Duff and Becky Campbell\, and Campbell Cleaning and Restoration\, invite you to join them for a Business After Hours at their location on N. 5th St.\n\nWhile the business is now over 15 years old\, November marks the 10th Anniversary of ownership for Duff and Becky.  Campbell Cleaning is also introducing it's new association with Deluxe Cleaners of York. \n\nPlease join them for an evening of celebration and fellowship.
X-ALT-DESC;FMTTYPE=text/html:Duff and Becky Campbell\, and Campbell Cleaning and Restoration\, invite you to join them for a Business After Hours at their location on N. 5th St.<br />\nWhile the business is now over 15 years old\, November marks the 10th Anniversary of ownership for Duff and Becky.&nbsp\; Campbell Cleaning is also introducing it&#39\;s new association with Deluxe Cleaners of York.&nbsp\;<br />\nPlease join them for an evening of celebration and fellowship.
LOCATION:Campbell Cleaning 240 N. 5th St. Seward\, NE 68434 (across from Sunmart)
UID:e.865.1158
SEQUENCE:3
DTSTAMP:20260424T141439Z
URL:https://business.cultivatesewardcounty.com/events/details/business-after-hours-11-22-2011-1158
END:VEVENT

END:VCALENDAR
