BEGIN:VCALENDAR
VERSION:2.0
PRODID:-//ChamberMaster//Event Calendar 2.0//EN
METHOD:PUBLISH
X-PUBLISHED-TTL:P3D
REFRESH-INTERVAL:P3D
CALSCALE:GREGORIAN
BEGIN:VEVENT
DTSTART:20140412T140000Z
DTEND:20140412T170000Z
X-MICROSOFT-CDO-ALLDAYEVENT:FALSE
SUMMARY:Bunny Run at SUNRISE COUNTRY MANOR
DESCRIPTION:5K Fun Run and 1 Mile Walk\nJoin us for a great family event including games\, face painting\, Easter eggs and brunch buffet. We encourage our runners to get into the "bunny" spirit by wearing ears and tails. Proceeds will go to the Milford Senior Center and Linden Village.
X-ALT-DESC;FMTTYPE=text/html:<h3 style="padding: 0px 0px 5px\; margin: 0px\; font-size: 14px\; color: rgb(126\, 174\, 175)\; font-family: verdana\, arial\, helvetica\;"><span style="color:#ee82ee\;">5K Fun Run and 1 Mile Walk</span></h3>\n<span style="color: rgb(51\, 51\, 51)\; font-family: verdana\, arial\, helvetica\; font-size: 13px\; line-height: 18px\;">Join us for a great family event including games\, face painting\, Easter eggs and brunch buffet. We encourage our runners to get into the &quot\;bunny&quot\; spirit by wearing ears and tails. Proceeds will go to the Milford Senior Center and Linden Village.</span>
LOCATION:Sunrise Country Manor\, 610 224th Road\, Milford\, NE 68405
UID:e.865.3603
SEQUENCE:3
DTSTAMP:20260421T130447Z
URL:https://business.cultivatesewardcounty.com/events/details/bunny-run-at-sunrise-country-manor-04-12-2014-3603
END:VEVENT

END:VCALENDAR
