BEGIN:VCALENDAR
VERSION:2.0
PRODID:-//ChamberMaster//Event Calendar 2.0//EN
METHOD:PUBLISH
X-PUBLISHED-TTL:P3D
REFRESH-INTERVAL:P3D
CALSCALE:GREGORIAN
BEGIN:VEVENT
DTSTART;VALUE=DATE:20140622
DTEND;VALUE=DATE:20140623
TRANSP:TRANSPARENT
X-MICROSOFT-CDO-ALLDAYEVENT:TRUE
SUMMARY:Bulldog Classic Softball Tournament
DESCRIPTION:Bulldog Classic Softball Tournament
X-ALT-DESC;FMTTYPE=text/html:Bulldog Classic Softball Tournament
LOCATION:Plum Creek Sports Complex 2222 Karol Kay Blvd. Seward\, NE
UID:e.865.3870
SEQUENCE:3
DTSTAMP:20260421T082946Z
URL:https://business.cultivatesewardcounty.com/events/details/bulldog-classic-softball-tournament-06-22-2014-3870
END:VEVENT

END:VCALENDAR
