BEGIN:VCALENDAR
VERSION:2.0
PRODID:-//ChamberMaster//Event Calendar 2.0//EN
METHOD:PUBLISH
X-PUBLISHED-TTL:P3D
REFRESH-INTERVAL:P3D
CALSCALE:GREGORIAN
BEGIN:VEVENT
DTSTART:20111201T203000Z
DTEND:20111201T220000Z
X-MICROSOFT-CDO-ALLDAYEVENT:FALSE
SUMMARY:BRING HEALTH BACK HOME IN 2012
DESCRIPTION:Pathways to Compassion is hosting a conference "Bringing Health Back in 2012" featuring Robert Wergin\, MD who will be presenting on Healthcare Reform\, Taking Healthcare Back Home\, and End of Life Choices.
X-ALT-DESC;FMTTYPE=text/html:Pathways to Compassion is hosting a conference &quot\;Bringing Health Back in 2012&quot\; featuring Robert Wergin\, MD who will be presenting on Healthcare Reform\, Taking Healthcare Back Home\, and End of Life Choices.
LOCATION:The Cattle National Bank & Trust Conference Room Corner of 5th and Seward Streets Seward\, NE 68434
UID:e.865.1170
SEQUENCE:3
DTSTAMP:20260424T124658Z
URL:https://business.cultivatesewardcounty.com/events/details/bring-health-back-home-in-2012-12-01-2011-1170
END:VEVENT

END:VCALENDAR
