BEGIN:VCALENDAR
VERSION:2.0
PRODID:-//ChamberMaster//Event Calendar 2.0//EN
METHOD:PUBLISH
X-PUBLISHED-TTL:P3D
REFRESH-INTERVAL:P3D
CALSCALE:GREGORIAN
BEGIN:VEVENT
DTSTART:20130807T130000Z
DTEND:20130807T210000Z
X-MICROSOFT-CDO-ALLDAYEVENT:FALSE
SUMMARY:Blood Drive - Southeast Community College in Milford
DESCRIPTION:The Nebraska Community Blood Bank will sponsor a blood drive at Southeast Community College in Milford\n\nhttp://www.ncbb.org/location/upcoming-blood-drives
X-ALT-DESC;FMTTYPE=text/html:The Nebraska Community Blood Bank will sponsor a blood drive at Southeast Community College in Milford<br />\nhttp://<a href="http://www.ncbb.org/location/upcoming-blood-drives">www.ncbb.org/location/upcoming-blood-drives</a>
LOCATION:Southeast Community College 600 S. State Street Milford\, NE
UID:e.865.2847
SEQUENCE:3
DTSTAMP:20260421T215221Z
URL:https://business.cultivatesewardcounty.com/events/details/blood-drive-southeast-community-college-in-milford-08-07-2013-2847
END:VEVENT

END:VCALENDAR
