BEGIN:VCALENDAR
VERSION:2.0
PRODID:-//ChamberMaster//Event Calendar 2.0//EN
METHOD:PUBLISH
X-PUBLISHED-TTL:P3D
REFRESH-INTERVAL:P3D
CALSCALE:GREGORIAN
BEGIN:VEVENT
DTSTART:20110504T130000Z
DTEND:20110504T160000Z
X-MICROSOFT-CDO-ALLDAYEVENT:FALSE
SUMMARY:Blood Drive - Seward
DESCRIPTION:Nebraska Community Blood Bank will host a blood drive in Seward at The Cattle National Bank & Trust
X-ALT-DESC;FMTTYPE=text/html:Nebraska Community Blood Bank will host a blood drive in Seward at The Cattle National Bank &amp\; Trust
LOCATION:The Cattle National Bank & Trust 104 S. 5th St. Seward\, NE 68434
UID:e.865.1080
SEQUENCE:3
DTSTAMP:20260425T004240Z
URL:https://business.cultivatesewardcounty.com/events/details/blood-drive-seward-05-04-2011-1080
END:VEVENT

END:VCALENDAR
