BEGIN:VCALENDAR
VERSION:2.0
PRODID:-//ChamberMaster//Event Calendar 2.0//EN
METHOD:PUBLISH
X-PUBLISHED-TTL:P3D
REFRESH-INTERVAL:P3D
CALSCALE:GREGORIAN
BEGIN:VEVENT
DTSTART:20130830T130000Z
DTEND:20130830T180000Z
X-MICROSOFT-CDO-ALLDAYEVENT:FALSE
SUMMARY:Blood Drive - Plains Equipment Group
DESCRIPTION:Nebraska Community Blood Bank will co-host a Blood Drive with Plains Equipment Group in Seward\, NE\n\n\n\nhttp://www.ncbb.org/location/upcoming-blood-drives
X-ALT-DESC;FMTTYPE=text/html:Nebraska Community Blood Bank will co-host a Blood Drive with Plains Equipment Group in Seward\, NE<br />\n<br />\n<a href="http://www.ncbb.org/location/upcoming-blood-drives">http://www.ncbb.org/location/upcoming-blood-drive</a>s
LOCATION:Plains Equipment Group 977 280th Rd. Seward\, NE
UID:e.865.2849
SEQUENCE:3
DTSTAMP:20260421T214353Z
URL:https://business.cultivatesewardcounty.com/events/details/blood-drive-plains-equipment-group-08-30-2013-2849
END:VEVENT

END:VCALENDAR
