BEGIN:VCALENDAR
VERSION:2.0
PRODID:-//ChamberMaster//Event Calendar 2.0//EN
METHOD:PUBLISH
X-PUBLISHED-TTL:P3D
REFRESH-INTERVAL:P3D
CALSCALE:GREGORIAN
BEGIN:VEVENT
DTSTART:20111221T140000Z
DTEND:20111221T190000Z
X-MICROSOFT-CDO-ALLDAYEVENT:FALSE
SUMMARY:Blood Drive - Plains Equip Group
DESCRIPTION:Nebraska Community Blood Bank will co-host a Blood Drive with Plains Equipment Group in Seward\, NE
X-ALT-DESC;FMTTYPE=text/html:Nebraska Community Blood Bank will co-host a Blood Drive with Plains Equipment Group in Seward\, NE
LOCATION:Plains Equipment Group 977 280th Rd. Seward\, NE
UID:e.865.1192
SEQUENCE:3
DTSTAMP:20260424T141533Z
URL:https://business.cultivatesewardcounty.com/events/details/blood-drive-plains-equip-group-12-21-2011-1192
END:VEVENT

END:VCALENDAR
