BEGIN:VCALENDAR
VERSION:2.0
PRODID:-//ChamberMaster//Event Calendar 2.0//EN
METHOD:PUBLISH
X-PUBLISHED-TTL:P3D
REFRESH-INTERVAL:P3D
CALSCALE:GREGORIAN
BEGIN:VEVENT
DTSTART:20111229T200000Z
DTEND:20111229T230000Z
X-MICROSOFT-CDO-ALLDAYEVENT:FALSE
SUMMARY:Blood Drive - Goehner
DESCRIPTION:Nebraska Community Blood Bank with co-host a Blood Drive with the Goehner Fire Department
X-ALT-DESC;FMTTYPE=text/html:Nebraska Community Blood Bank with co-host a Blood Drive with the Goehner Fire Department
LOCATION:Goehner Fire Hall Goehner\, NE
UID:e.865.1194
SEQUENCE:3
DTSTAMP:20260424T124457Z
URL:https://business.cultivatesewardcounty.com/events/details/blood-drive-goehner-12-29-2011-1194
END:VEVENT

END:VCALENDAR
