BEGIN:VCALENDAR
VERSION:2.0
PRODID:-//ChamberMaster//Event Calendar 2.0//EN
METHOD:PUBLISH
X-PUBLISHED-TTL:P3D
REFRESH-INTERVAL:P3D
CALSCALE:GREGORIAN
BEGIN:VEVENT
DTSTART:20140402T180000Z
DTEND:20140402T220000Z
X-MICROSOFT-CDO-ALLDAYEVENT:FALSE
SUMMARY:Blood Drive - Faith Lutheran Church
DESCRIPTION:Blood Drive - Faith Lutheran Church - Nebraska Community Blood Bank\n\nContact Cindy Foley at  402-643-3060 to make an appointment\n\n\n\nhttp://www.ncbb.org/location/upcoming-blood-drives
X-ALT-DESC;FMTTYPE=text/html:Blood Drive - Faith Lutheran Church - Nebraska Community Blood Bank<br />\nContact Cindy Foley&nbsp\;at &nbsp\;402-643-3060 to make an appointment<br />\n<br />\n<a href="http://www.ncbb.org/location/upcoming-blood-drives">http://www.ncbb.org/location/upcoming-blood-drives</a>
LOCATION:Faith Lutheran Church 1245 N 2nd St. Seward\, NE
UID:e.865.3526
SEQUENCE:3
DTSTAMP:20260421T114622Z
URL:https://business.cultivatesewardcounty.com/events/details/blood-drive-faith-lutheran-church-04-02-2014-3526
END:VEVENT

END:VCALENDAR
