BEGIN:VCALENDAR
VERSION:2.0
PRODID:-//ChamberMaster//Event Calendar 2.0//EN
METHOD:PUBLISH
X-PUBLISHED-TTL:P3D
REFRESH-INTERVAL:P3D
CALSCALE:GREGORIAN
BEGIN:VEVENT
DTSTART:20120123T190000Z
DTEND:20120123T230000Z
X-MICROSOFT-CDO-ALLDAYEVENT:FALSE
SUMMARY:Blood Drive - Faith Lutheran Church
DESCRIPTION:Nebraska Community Blood Bank will host a Blood Drive at Faith Lutheran Church in Seward\, NE.
X-ALT-DESC;FMTTYPE=text/html:Nebraska Community Blood Bank will host a Blood Drive at Faith Lutheran Church in Seward\, NE.
LOCATION:Faith Lutheran Church 1245 N. 2nd St.\, Seward\, NE
UID:e.865.1197
SEQUENCE:3
DTSTAMP:20260424T111824Z
URL:https://business.cultivatesewardcounty.com/events/details/blood-drive-faith-lutheran-church-01-23-2012-1197
END:VEVENT

END:VCALENDAR
