BEGIN:VCALENDAR
VERSION:2.0
PRODID:-//ChamberMaster//Event Calendar 2.0//EN
METHOD:PUBLISH
X-PUBLISHED-TTL:P3D
REFRESH-INTERVAL:P3D
CALSCALE:GREGORIAN
BEGIN:VEVENT
DTSTART:20140122T190000Z
DTEND:20140122T230000Z
X-MICROSOFT-CDO-ALLDAYEVENT:FALSE
SUMMARY:Blood Drive - Faith Lutheran Church
DESCRIPTION:Blood Drive - Faith Lutheran Church - Nebraska Community Blood Bank\n\n\n\nhttp://www.ncbb.org/location/upcoming-blood-drives
X-ALT-DESC;FMTTYPE=text/html:Blood Drive - Faith Lutheran Church - Nebraska Community Blood Bank<br />\n<br />\n<a href="http://www.ncbb.org/location/upcoming-blood-drives">http://www.ncbb.org/location/upcoming-blood-drives</a>
LOCATION:Faith Lutheran Church 1245 N 2nd St. Seward\, NE
UID:e.865.3462
SEQUENCE:3
DTSTAMP:20260421T153644Z
URL:https://business.cultivatesewardcounty.com/events/details/blood-drive-faith-lutheran-church-01-22-2014-3462
END:VEVENT

END:VCALENDAR
