BEGIN:VCALENDAR
VERSION:2.0
PRODID:-//ChamberMaster//Event Calendar 2.0//EN
METHOD:PUBLISH
X-PUBLISHED-TTL:P3D
REFRESH-INTERVAL:P3D
CALSCALE:GREGORIAN
BEGIN:VEVENT
DTSTART:20130912T140000Z
DTEND:20130912T220000Z
X-MICROSOFT-CDO-ALLDAYEVENT:FALSE
SUMMARY:Blood Drive - Concordia University
DESCRIPTION:Nebraska Community Blood Bank will be conducting a Blood Drive at Concordia University from 9am-5pm.
X-ALT-DESC;FMTTYPE=text/html:Nebraska Community Blood Bank will be conducting a Blood Drive at Concordia University from 9am-5pm.
LOCATION:Concordia University Janzow Campus Center 800 N. Columbia Ave.\, Seward\, NE
UID:e.865.3240
SEQUENCE:3
DTSTAMP:20260421T204543Z
URL:https://business.cultivatesewardcounty.com/events/details/blood-drive-concordia-university-09-12-2013-3240
END:VEVENT

END:VCALENDAR
