BEGIN:VCALENDAR
VERSION:2.0
PRODID:-//ChamberMaster//Event Calendar 2.0//EN
METHOD:PUBLISH
X-PUBLISHED-TTL:P3D
REFRESH-INTERVAL:P3D
CALSCALE:GREGORIAN
BEGIN:VEVENT
DTSTART:20120221T150000Z
DTEND:20120221T230000Z
X-MICROSOFT-CDO-ALLDAYEVENT:FALSE
SUMMARY:Blood Drive - Concordia University
DESCRIPTION:Nebraska Community Blood Bank will be conducting a Blood Drive at Concordia University from 9am-5pm.
X-ALT-DESC;FMTTYPE=text/html:Nebraska Community Blood Bank will be conducting a Blood Drive at Concordia University from 9am-5pm.
LOCATION:Concordia University 800 N. Columbia Ave.\, Seward\, NE
UID:e.865.1346
SEQUENCE:3
DTSTAMP:20260424T095929Z
URL:https://business.cultivatesewardcounty.com/events/details/blood-drive-concordia-university-02-21-2012-1346
END:VEVENT

END:VCALENDAR
