BEGIN:VCALENDAR
VERSION:2.0
PRODID:-//ChamberMaster//Event Calendar 2.0//EN
METHOD:PUBLISH
X-PUBLISHED-TTL:P3D
REFRESH-INTERVAL:P3D
CALSCALE:GREGORIAN
BEGIN:VEVENT
DTSTART:20140212T150000Z
DTEND:20140212T230000Z
X-MICROSOFT-CDO-ALLDAYEVENT:FALSE
SUMMARY:Blood Drive - Concordia University
DESCRIPTION:Nebraska Community Blood Bank will be conducting a Blood Drive at Concordia University  in the Cattle Conference Room from 9:00 am to 5:00 pm\n\n\n\nhttp://www.ncbb.org/location/upcoming-blood-drives
X-ALT-DESC;FMTTYPE=text/html:Nebraska Community Blood Bank will be conducting a Blood Drive at Concordia University&nbsp\; in the Cattle Conference Room from 9:00 am to 5:00 pm<br />\n<br />\n<a href="http://www.ncbb.org/location/upcoming-blood-drives">http://www.ncbb.org/location/upcoming-blood-drives</a>
LOCATION:Concordia University Cattle Conference Room 800 N. Columbia Ave.\, Seward\, NE
UID:e.865.3464
SEQUENCE:3
DTSTAMP:20260421T142243Z
URL:https://business.cultivatesewardcounty.com/events/details/blood-drive-concordia-university-02-12-2014-3464
END:VEVENT

END:VCALENDAR
