BEGIN:VCALENDAR
VERSION:2.0
PRODID:-//ChamberMaster//Event Calendar 2.0//EN
METHOD:PUBLISH
X-PUBLISHED-TTL:P3D
REFRESH-INTERVAL:P3D
CALSCALE:GREGORIAN
BEGIN:VEVENT
DTSTART:20131016T160000Z
DTEND:20131016T220000Z
X-MICROSOFT-CDO-ALLDAYEVENT:FALSE
SUMMARY:Blood Drive - Centennial HS
DESCRIPTION:Nebraska Community Blood Bank will host a Blood Drive at Centennial High School.
X-ALT-DESC;FMTTYPE=text/html:Nebraska Community Blood Bank will host a Blood Drive at Centennial High School.
LOCATION:Centennial High School 1301 Centennial Ave.\, Utica\, NE
UID:e.865.3237
SEQUENCE:3
DTSTAMP:20260421T203116Z
URL:https://business.cultivatesewardcounty.com/events/details/blood-drive-centennial-hs-10-16-2013-3237
END:VEVENT

END:VCALENDAR
