BEGIN:VCALENDAR
VERSION:2.0
PRODID:-//ChamberMaster//Event Calendar 2.0//EN
METHOD:PUBLISH
X-PUBLISHED-TTL:P3D
REFRESH-INTERVAL:P3D
CALSCALE:GREGORIAN
BEGIN:VEVENT
DTSTART:20140107T180000Z
DTEND:20140107T230000Z
X-MICROSOFT-CDO-ALLDAYEVENT:FALSE
SUMMARY:Blood Drive - Centennial HS
DESCRIPTION:Nebraska Community Blood Bank will host a Blood Drive at Centennial High School.\n\n\n\nhttp://www.ncbb.org
X-ALT-DESC;FMTTYPE=text/html:Nebraska Community Blood Bank will host a Blood Drive at Centennial High School.<br />\n<br />\n<a href="http://www.ncbb.org">http://www.ncbb.org</a>
LOCATION:Centennial High School 1301 Centennial Ave.\, Utica\, NE
UID:e.865.3461
SEQUENCE:3
DTSTAMP:20260421T153035Z
URL:https://business.cultivatesewardcounty.com/events/details/blood-drive-centennial-hs-01-07-2014-3461
END:VEVENT

END:VCALENDAR
