BEGIN:VCALENDAR
VERSION:2.0
PRODID:-//ChamberMaster//Event Calendar 2.0//EN
METHOD:PUBLISH
X-PUBLISHED-TTL:P3D
REFRESH-INTERVAL:P3D
CALSCALE:GREGORIAN
BEGIN:VEVENT
DTSTART:20140305T170000Z
DTEND:20140305T230000Z
X-MICROSOFT-CDO-ALLDAYEVENT:FALSE
SUMMARY:Blood Drive - Centennial High School - Utica
DESCRIPTION:Blood Drive  -  Centennial High School\, Utica\n\n\n\nCall Amy Hottovy at 402-534-2321 for an appointment
X-ALT-DESC;FMTTYPE=text/html:Blood Drive&nbsp\; -&nbsp\; Centennial High School\, Utica<br />\n<br />\nCall Amy Hottovy at 402-534-2321 for an appointment
LOCATION:Centennial High School 1301 Centennial Avenue Utica\, NE
UID:e.865.3525
SEQUENCE:3
DTSTAMP:20260421T130217Z
URL:https://business.cultivatesewardcounty.com/events/details/blood-drive-centennial-high-school-utica-03-05-2014-3525
END:VEVENT

END:VCALENDAR
