BEGIN:VCALENDAR
VERSION:2.0
PRODID:-//ChamberMaster//Event Calendar 2.0//EN
METHOD:PUBLISH
X-PUBLISHED-TTL:P3D
REFRESH-INTERVAL:P3D
CALSCALE:GREGORIAN
BEGIN:VEVENT
DTSTART:20140214T140000Z
DTEND:20140214T170000Z
X-MICROSOFT-CDO-ALLDAYEVENT:FALSE
SUMMARY:Blood Drive - Cattle National Bank
DESCRIPTION:Nebraska Community Blood Bank will be conducting a Blood Drive at The Cattle National Bank & Trust from 8am to 11am.\n\n\n\nhttp://www.ncbb.org/location/upcoming-blood-drives
X-ALT-DESC;FMTTYPE=text/html:Nebraska Community Blood Bank will be conducting a Blood Drive at The Cattle National Bank &amp\; Trust from 8am to 11am.<br />\n<br />\n<a href="http://www.ncbb.org/location/upcoming-blood-drives">http://www.ncbb.org/location/upcoming-blood-drives</a>
LOCATION:The Cattle National Bank & Trust 104 S. 5th St. Seward\, NE 68434
UID:e.865.3465
SEQUENCE:3
DTSTAMP:20260421T153453Z
URL:https://business.cultivatesewardcounty.com/events/details/blood-drive-cattle-national-bank-02-14-2014-3465
END:VEVENT

END:VCALENDAR
