BEGIN:VCALENDAR
VERSION:2.0
PRODID:-//ChamberMaster//Event Calendar 2.0//EN
METHOD:PUBLISH
X-PUBLISHED-TTL:P3D
REFRESH-INTERVAL:P3D
CALSCALE:GREGORIAN
BEGIN:VEVENT
DTSTART:20111228T140000Z
DTEND:20111228T170000Z
X-MICROSOFT-CDO-ALLDAYEVENT:FALSE
SUMMARY:Blood Drive - Cattle Bank\, Seward
DESCRIPTION:Nebraska Community Blood Bank will co-host a Blood Drive with Cattle Bank\, Seward\, NE
X-ALT-DESC;FMTTYPE=text/html:Nebraska Community Blood Bank will co-host a Blood Drive with Cattle Bank\, Seward\, NE
LOCATION:The Cattle National Bank & Trust 104 S. 5th St. Seward\, NE
UID:e.865.1193
SEQUENCE:3
DTSTAMP:20260424T124803Z
URL:https://business.cultivatesewardcounty.com/events/details/blood-drive-cattle-bank-seward-12-28-2011-1193
END:VEVENT

END:VCALENDAR
