BEGIN:VCALENDAR
VERSION:2.0
PRODID:-//ChamberMaster//Event Calendar 2.0//EN
METHOD:PUBLISH
X-PUBLISHED-TTL:P3D
REFRESH-INTERVAL:P3D
CALSCALE:GREGORIAN
BEGIN:VEVENT
DTSTART:20140418T130000Z
DTEND:20140418T160000Z
X-MICROSOFT-CDO-ALLDAYEVENT:FALSE
SUMMARY:Blood Drive - Cattle Bank\, Seward
DESCRIPTION:Nebraska Community Blood Bank will co-host a Blood Drive with Cattle Bank\, Seward\, NE\n\n\n\nContact Nancy Dolezal (402) 643-3636 to make an appointment.
X-ALT-DESC;FMTTYPE=text/html:Nebraska Community Blood Bank will co-host a Blood Drive with Cattle Bank\, Seward\, NE<br />\n<br />\nContact Nancy Dolezal (402) 643-3636 to make an appointment.
LOCATION:The Cattle National Bank & Trust 104 S. 5th St. Seward\, NE
UID:e.865.3527
SEQUENCE:3
DTSTAMP:20260421T113546Z
URL:https://business.cultivatesewardcounty.com/events/details/blood-drive-cattle-bank-seward-04-18-2014-3527
END:VEVENT

END:VCALENDAR
