BEGIN:VCALENDAR
VERSION:2.0
PRODID:-//ChamberMaster//Event Calendar 2.0//EN
METHOD:PUBLISH
X-PUBLISHED-TTL:P3D
REFRESH-INTERVAL:P3D
CALSCALE:GREGORIAN
BEGIN:VEVENT
DTSTART:20130828T210000Z
DTEND:20130829T000000Z
X-MICROSOFT-CDO-ALLDAYEVENT:FALSE
SUMMARY:Blood Drive - Beaver Crossing Fire Department
DESCRIPTION:Nebraska Community Blood Bank Blood Drive at Beaver Crossing Fire Hall\n\n\n\nhttp://www.ncbb.org/location/upcoming-blood-drives
X-ALT-DESC;FMTTYPE=text/html:Nebraska Community Blood Bank Blood Drive at Beaver Crossing Fire Hall<br />\n<br />\n<a href="http://www.ncbb.org/location/upcoming-blood-drives">http://www.ncbb.org/location/upcoming-blood-drives</a>
LOCATION:Beaver Crossing Fire Hall
UID:e.865.2848
SEQUENCE:3
DTSTAMP:20260421T231310Z
URL:https://business.cultivatesewardcounty.com/events/details/blood-drive-beaver-crossing-fire-department-08-28-2013-2848
END:VEVENT

END:VCALENDAR
