BEGIN:VCALENDAR
VERSION:2.0
PRODID:-//ChamberMaster//Event Calendar 2.0//EN
METHOD:PUBLISH
X-PUBLISHED-TTL:P3D
REFRESH-INTERVAL:P3D
CALSCALE:GREGORIAN
BEGIN:VEVENT
DTSTART:20111213T213000Z
DTEND:20111214T003000Z
X-MICROSOFT-CDO-ALLDAYEVENT:FALSE
SUMMARY:Blood Drive - Beaver Crossing
DESCRIPTION:Nebraska Community Blood Bank will co-host a Blood Drive with Beaver Crossing Fire Hall
X-ALT-DESC;FMTTYPE=text/html:<p>\n	Nebraska Community Blood Bank will co-host a Blood Drive with Beaver Crossing Fire Hall</p>\n
LOCATION:Beaver Crossing Fire Hall Beaver Crossing\, NE
UID:e.865.1191
SEQUENCE:3
DTSTAMP:20260424T124701Z
URL:https://business.cultivatesewardcounty.com/events/details/blood-drive-beaver-crossing-12-13-2011-1191
END:VEVENT

END:VCALENDAR
