BEGIN:VCALENDAR
VERSION:2.0
PRODID:-//ChamberMaster//Event Calendar 2.0//EN
METHOD:PUBLISH
X-PUBLISHED-TTL:P3D
REFRESH-INTERVAL:P3D
CALSCALE:GREGORIAN
BEGIN:VEVENT
DTSTART:20131029T130000Z
DTEND:20131029T210000Z
X-MICROSOFT-CDO-ALLDAYEVENT:FALSE
SUMMARY:Blood Drive at Seward High School
DESCRIPTION:Nebraska Community Blood Bank will host a Blood Drive at Seward High School.
X-ALT-DESC;FMTTYPE=text/html:Nebraska Community Blood Bank will host a Blood Drive at Seward High School.
LOCATION:Seward High School 532 Northern Heights Seward\, NE 68434
UID:e.865.3238
SEQUENCE:3
DTSTAMP:20260421T203519Z
URL:https://business.cultivatesewardcounty.com/events/details/blood-drive-at-seward-high-school-10-29-2013-3238
END:VEVENT

END:VCALENDAR
