BEGIN:VCALENDAR
VERSION:2.0
PRODID:-//ChamberMaster//Event Calendar 2.0//EN
METHOD:PUBLISH
X-PUBLISHED-TTL:P3D
REFRESH-INTERVAL:P3D
CALSCALE:GREGORIAN
BEGIN:VEVENT
DTSTART:20111128T190000Z
DTEND:20111128T230000Z
X-MICROSOFT-CDO-ALLDAYEVENT:FALSE
SUMMARY:Blood Drive at Faith Lutheran Church
DESCRIPTION:Nebraksa Community Blood Bank will host a Blood Drive at Faith Lutheran Church in Seward\, NE.
X-ALT-DESC;FMTTYPE=text/html:Nebraksa Community Blood Bank will host a Blood Drive at Faith Lutheran Church in Seward\, NE.
LOCATION:Faith Lutheran Church 1245 N. 2nd St. Seward\, NE 68434
UID:e.865.1168
SEQUENCE:3
DTSTAMP:20260424T141918Z
URL:https://business.cultivatesewardcounty.com/events/details/blood-drive-at-faith-lutheran-church-11-28-2011-1168
END:VEVENT

END:VCALENDAR
