BEGIN:VCALENDAR
VERSION:2.0
PRODID:-//ChamberMaster//Event Calendar 2.0//EN
METHOD:PUBLISH
X-PUBLISHED-TTL:P3D
REFRESH-INTERVAL:P3D
CALSCALE:GREGORIAN
BEGIN:VEVENT
DTSTART:20111102T130000Z
DTEND:20111102T160000Z
X-MICROSOFT-CDO-ALLDAYEVENT:FALSE
SUMMARY:Blood Drive at Cattle Bank
DESCRIPTION:Nebraska Community Blood Bank will host a Blood Drive at The Cattle National Bank & Trust Co. in Seward\, NE.
X-ALT-DESC;FMTTYPE=text/html:Nebraska Community Blood Bank will host a Blood Drive at The Cattle National Bank &amp\; Trust Co. in Seward\, NE.
LOCATION:The Cattle National Bank & Trust Co. 104 S. 5th St. Seward\, NE 68434
UID:e.865.1167
SEQUENCE:3
DTSTAMP:20260424T141624Z
URL:https://business.cultivatesewardcounty.com/events/details/blood-drive-at-cattle-bank-11-02-2011-1167
END:VEVENT

END:VCALENDAR
