BEGIN:VCALENDAR
VERSION:2.0
PRODID:-//ChamberMaster//Event Calendar 2.0//EN
METHOD:PUBLISH
X-PUBLISHED-TTL:P3D
REFRESH-INTERVAL:P3D
CALSCALE:GREGORIAN
BEGIN:VEVENT
DTSTART:20131008T130000Z
DTEND:20131008T150000Z
X-MICROSOFT-CDO-ALLDAYEVENT:FALSE
SUMMARY:Blood Drive at Cattle Bank
DESCRIPTION:Nebraska Community Blood Bank will host a Blood Drive at The Cattle National Bank & Trust Co. in Seward\, NE.\n\n\n\nhttp://www.ncbb.org/location/upcoming-blood-drives
X-ALT-DESC;FMTTYPE=text/html:Nebraska Community Blood Bank will host a Blood Drive at The Cattle National Bank &amp\; Trust Co. in Seward\, NE.<br />\n<br />\n<a href="http://www.ncbb.org/location/upcoming-blood-drives">http://www.ncbb.org/location/upcoming-blood-drives</a>
LOCATION:The Cattle National Bank & Trust Co. 104 S. 5th St. Seward\, NE 68434
UID:e.865.3236
SEQUENCE:3
DTSTAMP:20260421T203335Z
URL:https://business.cultivatesewardcounty.com/events/details/blood-drive-at-cattle-bank-10-08-2013-3236
END:VEVENT

END:VCALENDAR
