BEGIN:VCALENDAR
VERSION:2.0
PRODID:-//ChamberMaster//Event Calendar 2.0//EN
METHOD:PUBLISH
X-PUBLISHED-TTL:P3D
REFRESH-INTERVAL:P3D
CALSCALE:GREGORIAN
BEGIN:VEVENT
DTSTART:20110629T130000Z
DTEND:20110629T160000Z
X-MICROSOFT-CDO-ALLDAYEVENT:FALSE
SUMMARY:Blood Drive
DESCRIPTION:Blood Drive hosted by Nebraska Community Blood Bank
X-ALT-DESC;FMTTYPE=text/html:Blood Drive hosted by Nebraska Community Blood Bank
LOCATION:The Cattle National Bank & Trust 104 S. 5th St.\, Seward\, NE 68434
UID:e.865.1107
SEQUENCE:3
DTSTAMP:20260424T215710Z
URL:https://business.cultivatesewardcounty.com/events/details/blood-drive-06-29-2011-1107
END:VEVENT

END:VCALENDAR
