BEGIN:VCALENDAR
VERSION:2.0
PRODID:-//ChamberMaster//Event Calendar 2.0//EN
METHOD:PUBLISH
X-PUBLISHED-TTL:P3D
REFRESH-INTERVAL:P3D
CALSCALE:GREGORIAN
BEGIN:VEVENT
DTSTART:20110628T200000Z
DTEND:20110628T233000Z
X-MICROSOFT-CDO-ALLDAYEVENT:FALSE
SUMMARY:Blood Drive
DESCRIPTION:Blood Drive hosted by Nebraska Community Blood Bank
X-ALT-DESC;FMTTYPE=text/html:Blood Drive hosted by Nebraska Community Blood Bank
LOCATION:Goehner Fire Department Fire Hall 1230 May St.\, Goehner\, NE 68364
UID:e.865.1106
SEQUENCE:3
DTSTAMP:20260424T215748Z
URL:https://business.cultivatesewardcounty.com/events/details/blood-drive-06-28-2011-1106
END:VEVENT

END:VCALENDAR
