BEGIN:VCALENDAR
VERSION:2.0
PRODID:-//ChamberMaster//Event Calendar 2.0//EN
METHOD:PUBLISH
X-PUBLISHED-TTL:P3D
REFRESH-INTERVAL:P3D
CALSCALE:GREGORIAN
BEGIN:VEVENT
DTSTART:20110616T130000Z
DTEND:20110616T180000Z
X-MICROSOFT-CDO-ALLDAYEVENT:FALSE
SUMMARY:Blood Drive
DESCRIPTION:Blood Drive hosted by Nebraska Community Blood Bank
X-ALT-DESC;FMTTYPE=text/html:Blood Drive hosted by Nebraska Community Blood Bank
LOCATION:Plains Power & Equipment 977 280th Rd.\, Seward\, NE 68434
UID:e.865.1105
SEQUENCE:3
DTSTAMP:20260424T215708Z
URL:https://business.cultivatesewardcounty.com/events/details/blood-drive-06-16-2011-1105
END:VEVENT

END:VCALENDAR
