BEGIN:VCALENDAR
VERSION:2.0
PRODID:-//ChamberMaster//Event Calendar 2.0//EN
METHOD:PUBLISH
X-PUBLISHED-TTL:P3D
REFRESH-INTERVAL:P3D
CALSCALE:GREGORIAN
BEGIN:VEVENT
DTSTART:20110607T180000Z
DTEND:20110607T220000Z
X-MICROSOFT-CDO-ALLDAYEVENT:FALSE
SUMMARY:Blood Drive
DESCRIPTION:Blood Drive hosted by Nebraska Community Blood Bank
X-ALT-DESC;FMTTYPE=text/html:Blood Drive hosted by Nebraska Community Blood Bank
LOCATION:Faith Lutheran Church 1245 N. 2nd St.\, Seward\, NE 68434
UID:e.865.1104
SEQUENCE:3
DTSTAMP:20260424T231317Z
URL:https://business.cultivatesewardcounty.com/events/details/blood-drive-06-07-2011-1104
END:VEVENT

END:VCALENDAR
