BEGIN:VCALENDAR
VERSION:2.0
PRODID:-//ChamberMaster//Event Calendar 2.0//EN
METHOD:PUBLISH
X-PUBLISHED-TTL:P3D
REFRESH-INTERVAL:P3D
CALSCALE:GREGORIAN
BEGIN:VEVENT
DTSTART:20131013T140000Z
DTEND:20131013T180000Z
X-MICROSOFT-CDO-ALLDAYEVENT:FALSE
SUMMARY:Bee Harvest Breakfast Buffet
DESCRIPTION:Bee Harvest Breakfast Buffet - fundraiser for the Bee States Ballroom Restoration Project.  There is now air conditioning available in this facility\; thanks to fundraisers such as this breakfast. \n\n\n\nBuffet includes breakfast rice\, eggs\, pancakes\, biscuits and gravy\, sausage\, juice and coffee.
X-ALT-DESC;FMTTYPE=text/html:Bee Harvest Breakfast Buffet - fundraiser for the Bee States Ballroom Restoration Project.&nbsp\; There is now air conditioning available in this facility\; thanks to fundraisers such as this breakfast.&nbsp\;<br />\n<br />\nBuffet includes breakfast rice\, eggs\, pancakes\, biscuits and gravy\, sausage\, juice and coffee.<br />\n<br />\n
LOCATION:Bee States Ballroom Bee\, NE
UID:e.865.2866
SEQUENCE:3
DTSTAMP:20260421T191518Z
URL:https://business.cultivatesewardcounty.com/events/details/bee-harvest-breakfast-buffet-10-13-2013-2866
END:VEVENT

END:VCALENDAR
