BEGIN:VCALENDAR
VERSION:2.0
PRODID:-//ChamberMaster//Event Calendar 2.0//EN
METHOD:PUBLISH
X-PUBLISHED-TTL:P3D
REFRESH-INTERVAL:P3D
CALSCALE:GREGORIAN
BEGIN:VEVENT
DTSTART;VALUE=DATE:20131130
DTEND;VALUE=DATE:20131201
TRANSP:TRANSPARENT
X-MICROSOFT-CDO-ALLDAYEVENT:TRUE
SUMMARY:Bee Dinner Theater
DESCRIPTION:Bee Dinner Theater  -  Social hour begins at 5:00 pm with dinner being served at\n\n6:30 pm.  The menu is Windsor Loin with all the "fixing's."  The entertainment varies but it is always a good fun filled evening.\n\n\n\nThis is another fundraiser event with proceeds going toward the Bee States Ballroom Restoration Project.
X-ALT-DESC;FMTTYPE=text/html:Bee Dinner Theater&nbsp\; -&nbsp\; Social hour begins at 5:00 pm with dinner being served at<br />\n6:30 pm.&nbsp\; The menu is Windsor Loin with all the &quot\;fixing&#39\;s.&quot\;&nbsp\; The entertainment varies but it is always a good fun filled evening.<br />\n<br />\nThis is another fundraiser event with proceeds going toward the Bee States Ballroom Restoration Project.
LOCATION:Bee States Ballroom Bee\, NE
UID:e.865.2867
SEQUENCE:3
DTSTAMP:20260421T175648Z
URL:https://business.cultivatesewardcounty.com/events/details/bee-dinner-theater-11-30-2013-2867
END:VEVENT

END:VCALENDAR
