BEGIN:VCALENDAR
VERSION:2.0
PRODID:-//ChamberMaster//Event Calendar 2.0//EN
METHOD:PUBLISH
X-PUBLISHED-TTL:P3D
REFRESH-INTERVAL:P3D
CALSCALE:GREGORIAN
BEGIN:VEVENT
DTSTART;VALUE=DATE:20130810
DTEND;VALUE=DATE:20130811
TRANSP:TRANSPARENT
X-MICROSOFT-CDO-ALLDAYEVENT:TRUE
SUMMARY:Beaver Daze
DESCRIPTION:Beaver Crossing Daze - Events include Texas style softball tournament\, kiddie tractor pull\, wiener dog race\, fundraiser auction and rib fest beginning at 5:00 pm.\n\n\n\nhttp://beavercrossingne.com
X-ALT-DESC;FMTTYPE=text/html:Beaver Crossing Daze - Events include Texas style softball tournament\, kiddie tractor pull\, wiener dog race\, fundraiser auction and rib fest beginning at 5:00 pm.<br />\n<a name="cke_range_marker"><br />\nhttp://beavercrossingne.com</a>
LOCATION:Beaver Park
UID:e.865.2835
SEQUENCE:3
DTSTAMP:20260421T214916Z
URL:https://business.cultivatesewardcounty.com/events/details/beaver-daze-08-10-2013-2835
END:VEVENT

END:VCALENDAR
