BEGIN:VCALENDAR
VERSION:2.0
PRODID:-//ChamberMaster//Event Calendar 2.0//EN
METHOD:PUBLISH
X-PUBLISHED-TTL:P3D
REFRESH-INTERVAL:P3D
CALSCALE:GREGORIAN
BEGIN:VEVENT
DTSTART:20140531T140000Z
DTEND:20140531T190000Z
X-MICROSOFT-CDO-ALLDAYEVENT:FALSE
SUMMARY:Beaver Crossing Garage Sales
DESCRIPTION:Beaver Crossing Garage Sales  -  Annual garage sales.  Maps available at Community Hall or Old School
X-ALT-DESC;FMTTYPE=text/html:Beaver Crossing Garage Sales&nbsp\; -&nbsp\; Annual garage sales.&nbsp\; Maps available at Community Hall or Old School
LOCATION:Throughout the community of Beaver Crossing
UID:e.865.3848
SEQUENCE:3
DTSTAMP:20260421T113053Z
URL:https://business.cultivatesewardcounty.com/events/details/beaver-crossing-garage-sales-05-31-2014-3848
END:VEVENT

END:VCALENDAR
