BEGIN:VCALENDAR
VERSION:2.0
PRODID:-//ChamberMaster//Event Calendar 2.0//EN
METHOD:PUBLISH
X-PUBLISHED-TTL:P3D
REFRESH-INTERVAL:P3D
CALSCALE:GREGORIAN
BEGIN:VEVENT
DTSTART;VALUE=DATE:20131201
DTEND;VALUE=DATE:20131202
TRANSP:TRANSPARENT
X-MICROSOFT-CDO-ALLDAYEVENT:TRUE
SUMMARY:Beaver Crossing Christmas in the Park
DESCRIPTION:Beaver Crossing Christmas in the Park  -  Great food - free pictures with Santa - hay ride around the park to enjoy lights and many vendors - large raffle with over 20 prizes and many more enjoyable activities.  Vendors open at 2:00 pm\, food served at 4:00 pm and Santa will be available for pictures at 5:00 pm.  Hayrack rides will begin at sunset.\n\nhttp://www.beavercrossingne.com/
X-ALT-DESC;FMTTYPE=text/html:Beaver Crossing Christmas in the Park&nbsp\; -&nbsp\; Great food - free pictures with Santa - hay ride around the park to enjoy lights and many vendors - large raffle with over 20 prizes and many more enjoyable activities.&nbsp\; Vendors open at 2:00 pm\, food served at 4:00 pm and Santa will be available for pictures at 5:00 pm.&nbsp\; Hayrack rides will begin at sunset.<br />\n<a href="http://www.beavercrossingne.com/">http://www.beavercrossingne.com/</a>
LOCATION:Beaver Crossing Park 1027 Dimery Avenue Beaver Crossing\, NE
UID:e.865.3416
SEQUENCE:3
DTSTAMP:20260421T163303Z
URL:https://business.cultivatesewardcounty.com/events/details/beaver-crossing-christmas-in-the-park-12-01-2013-3416
END:VEVENT

END:VCALENDAR
